Workbook
Name Priority: 'Drop-Downs'!$A$2:$A$6
Name Response: 'Drop-Downs'!$D$2:$D$6

Sheet Instructions
A1: Requirements Matrix Instructions
A3: The tabs are organized by color to reflect functional areas of an ERP system. There are tabs that provide brief introductions to explain the current landscape. This is to provide context to better understand the requirements.
A5: Column B identifies CVRF’s priority of the requirement. You cannot change the selection in this column.
A7: In column C, select:
B8: · Core Functionality if the feature is available without customization
B9: · Configurable if the feature is available (only) through configuration
B10: · Custom if the feature is available with customization or an additional module
B11: · Not Available if the feature is not available
A13: In column D, please provide any context. For example, list any additional modules that are required for full functionality; explain how the functionality can be alternatively achieved; whether your offering fully or partially meets the requirement, etc. YOU DO NOT NEED TO FILL OUT COLUMN D FOR ALL ITEMS.
A15: Do not change the formatting, add columns, remove lines, remove columns, or manipulate drop-downs or formulas. There are password-protected tabs to help us with evaluations.

Sheet Accounting Intro
A1: Accounting Introduction
A3: Overview
A4: CVRF uses Dynamics GP to manage accounting functions for Corporate, CAPS, and Programs. All accounting data from CAPS and Programs ultimately is processed through Dynamics GP.
A6: Goals
A7: A new ERP system will be responsible for core accounting functions, including managing fixed assets, managing cash, being the source of truth for data, reporting across accounting functions, and imposing auditable policies and procedures for the entire entity. CVRF needs a single source of truth for all accounting data. A single solution is not necessary, but there must be demonstrable connectivity or integration with 3rd-party applications that can better meet CVRF requirements. CVRF is interested in all the functionality of your offering, but wants the option to find best-in-class modules or applications.

Sheet Fixed Assets
A1: Fixed Assets Requirements | B1: Priority | C1: Response | D1: Notes/Comments | G1: =SUM(G3:G47) -> #N/A
A2: 1. Fixed Asset Data
A3: Maintain data about each fixed asset (ID, location, serial number, owner, manufacturer, status, in service date, etc.) | B3: High | E3: {=_xlfn.SWITCH(B3, "Critical", 5, "High", 4, "Medium", 3, "Low", 2, "Future", 1)} -> 4 | F3: {=_xlfn.SWITCH(C3, "Core Functionality", 5, "Configurable", 4, "Custom", 3, "Not Available", 0, "Either/Or", 0)} -> #N/A | G3: =E3*F3 -> #N/A
A4: Maintain procurement data for assets (PO, vendor, date, etc.) | B4: High | E4: {=_xlfn.SWITCH(B4, "Critical", 5, "High", 4, "Medium", 3, "Low", 2, "Future", 1)} -> 4 | F4: {=_xlfn.SWITCH(C4, "Core Functionality", 5, "Configurable", 4, "Custom", 3, "Not Available", 0, "Either/Or", 0)} -> #N/A | G4: =E4*F4 -> #N/A
A5: Support capital purchases, internal builds, and leased assets | B5: High | E5: {=_xlfn.SWITCH(B5, "Critical", 5, "High", 4, "Medium", 3, "Low", 2, "Future", 1)} -> 4 | F5: {=_xlfn.SWITCH(C5, "Core Functionality", 5, "Configurable", 4, "Custom", 3, "Not Available", 0, "Either/Or", 0)} -> #N/A | G5: =E5*F5 -> #N/A
A6: Establish required fields and data for fixed assets to enable data consistency | B6: Medium | E6: {=_xlfn.SWITCH(B6, "Critical", 5, "High", 4, "Medium", 3, "Low", 2, "Future", 1)} -> 3 | F6: {=_xlfn.SWITCH(C6, "Core Functionality", 5, "Configurable", 4, "Custom", 3, "Not Available", 0, "Either/Or", 0)} -> #N/A | G6: =E6*F6 -> #N/A
A7: Establish classifications, depreciation schedules, asset categories | B7: Medium | E7: {=_xlfn.SWITCH(B7, "Critical", 5, "High", 4, "Medium", 3, "Low", 2, "Future", 1)} -> 3 | F7: {=_xlfn.SWITCH(C7, "Core Functionality", 5, "Configurable", 4, "Custom", 3, "Not Available", 0, "Either/Or", 0)} -> #N/A | G7: =E7*F7 -> #N/A
A8: Establish rules-based handling for assets by category, classification, etc. to facilitiate automation | B8: Medium | E8: {=_xlfn.SWITCH(B8, "Critical", 5, "High", 4, "Medium", 3, "Low", 2, "Future", 1)} -> 3 | F8: {=_xlfn.SWITCH(C8, "Core Functionality", 5, "Configurable", 4, "Custom", 3, "Not Available", 0, "Either/Or", 0)} -> #N/A | G8: =E8*F8 -> #N/A
A9: Track useful life, salvage value, and disposal value | B9: Medium | E9: {=_xlfn.SWITCH(B9, "Critical", 5, "High", 4, "Medium", 3, "Low", 2, "Future", 1)} -> 3 | F9: {=_xlfn.SWITCH(C9, "Core Functionality", 5, "Configurable", 4, "Custom", 3, "Not Available", 0, "Either/Or", 0)} -> #N/A | G9: =E9*F9 -> #N/A
A10: Support asset revaluations | B10: Medium | E10: {=_xlfn.SWITCH(B10, "Critical", 5, "High", 4, "Medium", 3, "Low", 2, "Future", 1)} -> 3 | F10: {=_xlfn.SWITCH(C10, "Core Functionality", 5, "Configurable", 4, "Custom", 3, "Not Available", 0, "Either/Or", 0)} -> #N/A | G10: =E10*F10 -> #N/A
A11: Support asset impairment as a transaction type | B11: Medium | E11: {=_xlfn.SWITCH(B11, "Critical", 5, "High", 4, "Medium", 3, "Low", 2, "Future", 1)} -> 3 | F11: {=_xlfn.SWITCH(C11, "Core Functionality", 5, "Configurable", 4, "Custom", 3, "Not Available", 0, "Either/Or", 0)} -> #N/A | G11: =E11*F11 -> #N/A
A12: Support intercompany transfers | B12: Medium | E12: {=_xlfn.SWITCH(B12, "Critical", 5, "High", 4, "Medium", 3, "Low", 2, "Future", 1)} -> 3 | F12: {=_xlfn.SWITCH(C12, "Core Functionality", 5, "Configurable", 4, "Custom", 3, "Not Available", 0, "Either/Or", 0)} -> #N/A | G12: =E12*F12 -> #N/A
A13: Roll subledgers associated with expenses for a specific fixed asset | B13: High | E13: {=_xlfn.SWITCH(B13, "Critical", 5, "High", 4, "Medium", 3, "Low", 2, "Future", 1)} -> 4 | F13: {=_xlfn.SWITCH(C13, "Core Functionality", 5, "Configurable", 4, "Custom", 3, "Not Available", 0, "Either/Or", 0)} -> #N/A | G13: =E13*F13 -> #N/A
A14: Ease of putting an asset into and out of service | B14: Medium | E14: {=_xlfn.SWITCH(B14, "Critical", 5, "High", 4, "Medium", 3, "Low", 2, "Future", 1)} -> 3 | F14: {=_xlfn.SWITCH(C14, "Core Functionality", 5, "Configurable", 4, "Custom", 3, "Not Available", 0, "Either/Or", 0)} -> #N/A | G14: =E14*F14 -> #N/A
... A16: Retain historical information about the project that created the Fixed Asset | B16: Medium | E16: {=_xlfn.SWITCH(B16, "Critical", 5, "High", 4, "Medium", 3, "Low", 2, "Future", 1)} -> 3 | F16: {=_xlfn.SWITCH(C16, "Core Functionality", 5, "Configurable", 4, "Custom", 3, "Not Available", 0, "Either/Or", 0)} -> #N/A | G16: =E16*F16 -> #N/A
A18: 2. Roll Forward Schedule
A19: Allow for multiple depreciations methods | B19: High | E19: {=_xlfn.SWITCH(B19, "Critical", 5, "High", 4, "Medium", 3, "Low", 2, "Future", 1)} -> 4 | F19: {=_xlfn.SWITCH(C19, "Core Functionality", 5, "Configurable", 4, "Custom", 3, "Not Available", 0, "Either/Or", 0)} -> #N/A | G19: =E19*F19 -> #N/A
A20: Allow for partial-period depreciation | B20: Medium | E20: {=_xlfn.SWITCH(B20, "Critical", 5, "High", 4, "Medium", 3, "Low", 2, "Future", 1)} -> 3 | F20: {=_xlfn.SWITCH(C20, "Core Functionality", 5, "Configurable", 4, "Custom", 3, "Not Available", 0, "Either/Or", 0)} -> #N/A | G20: =E20*F20 -> #N/A
A21: Provide automatic application of depreciation based on schedule | B21: High | E21: {=_xlfn.SWITCH(B21, "Critical", 5, "High", 4, "Medium", 3, "Low", 2, "Future", 1)} -> 4 | F21: {=_xlfn.SWITCH(C21, "Core Functionality", 5, "Configurable", 4, "Custom", 3, "Not Available", 0, "Either/Or", 0)} -> #N/A | G21: =E21*F21 -> #N/A
A22: Allow for maitnenance and review of roll forward schedule | B22: Medium | E22: {=_xlfn.SWITCH(B22, "Critical", 5, "High", 4, "Medium", 3, "Low", 2, "Future", 1)} -> 3 | F22: {=_xlfn.SWITCH(C22, "Core Functionality", 5, "Configurable", 4, "Custom", 3, "Not Available", 0, "Either/Or", 0)} -> #N/A | G22: =E22*F22 -> #N/A
A24: 4. Moving Assets into Service/out of Service
A25: Support automation for moving Projects to fixed asset accounts upon moving an asset into service. | B25: High | E25: {=_xlfn.SWITCH(B25, "Critical", 5, "High", 4, "Medium", 3, "Low", 2, "Future", 1)} -> 4 | F25: {=_xlfn.SWITCH(C25, "Core Functionality", 5, "Configurable", 4, "Custom", 3, "Not Available", 0, "Either/Or", 0)} -> #N/A | G25: =E25*F25 -> #N/A
A26: Support automation for moving assets out of service | B26: Medium | E26: {=_xlfn.SWITCH(B26, "Critical", 5, "High", 4, "Medium", 3, "Low", 2, "Future", 1)} -> 3 | F26: {=_xlfn.SWITCH(C26, "Core Functionality", 5, "Configurable", 4, "Custom", 3, "Not Available", 0, "Either/Or", 0)} -> #N/A | G26: =E26*F26 -> #N/A
A28: 5. Reporting and Analysis
A29: Provide depreciation forecasts | B29: Medium | E29: {=_xlfn.SWITCH(B29, "Critical", 5, "High", 4, "Medium", 3, "Low", 2, "Future", 1)} -> 3 | F29: {=_xlfn.SWITCH(C29, "Core Functionality", 5, "Configurable", 4, "Custom", 3, "Not Available", 0, "Either/Or", 0)} -> #N/A | G29: =E29*F29 -> #N/A
A30: Export depreciation schedules | B30: Low | E30: {=_xlfn.SWITCH(B30, "Critical", 5, "High", 4, "Medium", 3, "Low", 2, "Future", 1)} -> 2 | F30: {=_xlfn.SWITCH(C30, "Core Functionality", 5, "Configurable", 4, "Custom", 3, "Not Available", 0, "Either/Or", 0)} -> #N/A | G30: =E30*F30 -> #N/A
A31: Asset reports (roll forward, gain/loss on disposal, forecasting and planning analytics, etc.) | B31: Medium | E31: {=_xlfn.SWITCH(B31, "Critical", 5, "High", 4, "Medium", 3, "Low", 2, "Future", 1)} -> 3 | F31: {=_xlfn.SWITCH(C31, "Core Functionality", 5, "Configurable", 4, "Custom", 3, "Not Available", 0, "Either/Or", 0)} -> #N/A | G31: =E31*F31 -> #N/A
A32: Gain and loss reporting on disposals | B32: Medium | E32: {=_xlfn.SWITCH(B32, "Critical", 5, "High", 4, "Medium", 3, "Low", 2, "Future", 1)} -> 3 | F32: {=_xlfn.SWITCH(C32, "Core Functionality", 5, "Configurable", 4, "Custom", 3, "Not Available", 0, "Either/Or", 0)} -> #N/A | G32: =E32*F32 -> #N/A
A33: Support logging and audit trails | B33: Critical | E33: {=_xlfn.SWITCH(B33, "Critical", 5, "High", 4, "Medium", 3, "Low", 2, "Future", 1)} -> 5 | F33: {=_xlfn.SWITCH(C33, "Core Functionality", 5, "Configurable", 4, "Custom", 3, "Not Available", 0, "Either/Or", 0)} -> #N/A | G33: =E33*F33 -> #N/A
A34: Provide projected balances based on budget/actual data from Project Management module. | B34: Low | E34: {=_xlfn.SWITCH(B34, "Critical", 5, "High", 4, "Medium", 3, "Low", 2, "Future", 1)} -> 2 | F34: {=_xlfn.SWITCH(C34, "Core Functionality", 5, "Configurable", 4, "Custom", 3, "Not Available", 0, "Either/Or", 0)} -> #N/A | G34: =E34*F34 -> #N/A
A36: 6. Integration
A37: Integrate with GL, sub-ledgers, automatic JE entries | B37: Critical | E37: {=_xlfn.SWITCH(B37, "Critical", 5, "High", 4, "Medium", 3, "Low", 2, "Future", 1)} -> 5 | F37: {=_xlfn.SWITCH(C37, "Core Functionality", 5, "Configurable", 4, "Custom", 3, "Not Available", 0, "Either/Or", 0)} -> #N/A | G37: =E37*F37 -> #N/A
A38: Integrate with project management module or system | B38: Low | E38: {=_xlfn.SWITCH(B38, "Critical", 5, "High", 4, "Medium", 3, "Low", 2, "Future", 1)} -> 2 | F38: {=_xlfn.SWITCH(C38, "Core Functionality", 5, "Configurable", 4, "Custom", 3, "Not Available", 0, "Either/Or", 0)} -> #N/A | G38: =E38*F38 -> #N/A
A40: 7. Workflows
A41: Support approval workflows | B41: Critical | E41: {=_xlfn.SWITCH(B41, "Critical", 5, "High", 4, "Medium", 3, "Low", 2, "Future", 1)} -> 5 | F41: {=_xlfn.SWITCH(C41, "Core Functionality", 5, "Configurable", 4, "Custom", 3, "Not Available", 0, "Either/Or", 0)} -> #N/A | G41: =E41*F41 -> #N/A
A42: Configurable workflow engine for approvals and notifications | B42: High | E42: {=_xlfn.SWITCH(B42, "Critical", 5, "High", 4, "Medium", 3, "Low", 2, "Future", 1)} -> 4 | F42: {=_xlfn.SWITCH(C42, "Core Functionality", 5, "Configurable", 4, "Custom", 3, "Not Available", 0, "Either/Or", 0)} -> #N/A | G42: =E42*F42 -> #N/A
A44: 8. Attachments
A45: Support attachments for transactions | B45: Critical | E45: {=_xlfn.SWITCH(B45, "Critical", 5, "High", 4, "Medium", 3, "Low", 2, "Future", 1)} -> 5 | F45: {=_xlfn.SWITCH(C45, "Core Functionality", 5, "Configurable", 4, "Custom", 3, "Not Available", 0, "Either/Or", 0)} -> #N/A | G45: =E45*F45 -> #N/A
A46: Support links to related transactions | B46: High | E46: {=_xlfn.SWITCH(B46, "Critical", 5, "High", 4, "Medium", 3, "Low", 2, "Future", 1)} -> 4 | F46: {=_xlfn.SWITCH(C46, "Core Functionality", 5, "Configurable", 4, "Custom", 3, "Not Available", 0, "Either/Or", 0)} -> #N/A | G46: =E46*F46 -> #N/A

Sheet Cash and Treasury
A1: Cash and Treasury Requirements | B1: Priority | C1: Response | D1: Notes/Comments | G1: =SUM(G3:G36) -> #N/A
A2: 1. Visibility and Monitoring
A3: Real-time and intraday cash position tracking | B3: High | E3: {=_xlfn.SWITCH(B3, "Critical", 5, "High", 4, "Medium", 3, "Low", 2, "Future", 1)} -> 4 | F3: {=_xlfn.SWITCH(C3, "Core Functionality", 5, "Configurable", 4, "Custom", 3, "Not Available", 0, "Either/Or", 0)} -> #N/A | G3: =E3*F3 -> #N/A
A4: Consolidated view across bank accounts, subsidiaries, and currencies | B4: Medium | E4: {=_xlfn.SWITCH(B4, "Critical", 5, "High", 4, "Medium", 3, "Low", 2, "Future", 1)} -> 3 | F4: {=_xlfn.SWITCH(C4, "Core Functionality", 5, "Configurable", 4, "Custom", 3, "Not Available", 0, "Either/Or", 0)} -> #N/A | G4: =E4*F4 -> #N/A
A5: Historical cash position reporting | B5: Medium | E5: {=_xlfn.SWITCH(B5, "Critical", 5, "High", 4, "Medium", 3, "Low", 2, "Future", 1)} -> 3 | F5: {=_xlfn.SWITCH(C5, "Core Functionality", 5, "Configurable", 4, "Custom", 3, "Not Available", 0, "Either/Or", 0)} -> #N/A | G5: =E5*F5 -> #N/A
A6: Forecast vs. actual reconciliation | B6: Medium | E6: {=_xlfn.SWITCH(B6, "Critical", 5, "High", 4, "Medium", 3, "Low", 2, "Future", 1)} -> 3 | F6: {=_xlfn.SWITCH(C6, "Core Functionality", 5, "Configurable", 4, "Custom", 3, "Not Available", 0, "Either/Or", 0)} -> #N/A | G6: =E6*F6 -> #N/A
A7: Scenario modeling based on batches of payments | B7: Medium | E7: {=_xlfn.SWITCH(B7, "Critical", 5, "High", 4, "Medium", 3, "Low", 2, "Future", 1)} -> 3 | F7: {=_xlfn.SWITCH(C7, "Core Functionality", 5, "Configurable", 4, "Custom", 3, "Not Available", 0, "Either/Or", 0)} -> #N/A | G7: =E7*F7 -> #N/A
A9: 2. Cash Deposits
A10: Record deposits based on type and source (CAPS, Corporate, Programs) | B10: High | E10: {=_xlfn.SWITCH(B10, "Critical", 5, "High", 4, "Medium", 3, "Low", 2, "Future", 1)} -> 4 | F10: {=_xlfn.SWITCH(C10, "Core Functionality", 5, "Configurable", 4, "Custom", 3, "Not Available", 0, "Either/Or", 0)} -> #N/A | G10: =E10*F10 -> #N/A
A11: Deposit batching | B11: High | E11: {=_xlfn.SWITCH(B11, "Critical", 5, "High", 4, "Medium", 3, "Low", 2, "Future", 1)} -> 4 | F11: {=_xlfn.SWITCH(C11, "Core Functionality", 5, "Configurable", 4, "Custom", 3, "Not Available", 0, "Either/Or", 0)} -> #N/A | G11: =E11*F11 -> #N/A
A12: Support for multiple different cash accounts | B12: Critical | E12: {=_xlfn.SWITCH(B12, "Critical", 5, "High", 4, "Medium", 3, "Low", 2, "Future", 1)} -> 5 | F12: {=_xlfn.SWITCH(C12, "Core Functionality", 5, "Configurable", 4, "Custom", 3, "Not Available", 0, "Either/Or", 0)} -> #N/A | G12: =E12*F12 -> #N/A
A13: Support currency exchange rates | B13: High | E13: {=_xlfn.SWITCH(B13, "Critical", 5, "High", 4, "Medium", 3, "Low", 2, "Future", 1)} -> 4 | F13: {=_xlfn.SWITCH(C13, "Core Functionality", 5, "Configurable", 4, "Custom", 3, "Not Available", 0, "Either/Or", 0)} -> #N/A | G13: =E13*F13 -> #N/A
A14: Approval workflows especially for large deposits | B14: High | E14: {=_xlfn.SWITCH(B14, "Critical", 5, "High", 4, "Medium", 3, "Low", 2, "Future", 1)} -> 4 | F14: {=_xlfn.SWITCH(C14, "Core Functionality", 5, "Configurable", 4, "Custom", 3, "Not Available", 0, "Either/Or", 0)} -> #N/A | G14: =E14*F14 -> #N/A
A15: Alerts for failed deposits | B15: Critical | E15: {=_xlfn.SWITCH(B15, "Critical", 5, "High", 4, "Medium", 3, "Low", 2, "Future", 1)} -> 5 | F15: {=_xlfn.SWITCH(C15, "Core Functionality", 5, "Configurable", 4, "Custom", 3, "Not Available", 0, "Either/Or", 0)} -> #N/A | G15: =E15*F15 -> #N/A
A17: 3. Integration
A18: Integration with AP/AR, payroll, and GL | B18: High | E18: {=_xlfn.SWITCH(B18, "Critical", 5, "High", 4, "Medium", 3, "Low", 2, "Future", 1)} -> 4 | F18: {=_xlfn.SWITCH(C18, "Core Functionality", 5, "Configurable", 4, "Custom", 3, "Not Available", 0, "Either/Or", 0)} -> #N/A | G18: =E18*F18 -> #N/A
A19: Integration with banking for cash balance reports, fraud detection | B19: High | E19: {=_xlfn.SWITCH(B19, "Critical", 5, "High", 4, "Medium", 3, "Low", 2, "Future", 1)} -> 4 | F19: {=_xlfn.SWITCH(C19, "Core Functionality", 5, "Configurable", 4, "Custom", 3, "Not Available", 0, "Either/Or", 0)} -> #N/A | G19: =E19*F19 -> #N/A
A20: Configurable data exchange with other data sources (banks, vendors, etc.) to collect data automatically (instead of user-initiated actions) (All subject to approval.) | B20: Medium | E20: {=_xlfn.SWITCH(B20, "Critical", 5, "High", 4, "Medium", 3, "Low", 2, "Future", 1)} -> 3 | F20: {=_xlfn.SWITCH(C20, "Core Functionality", 5, "Configurable", 4, "Custom", 3, "Not Available", 0, "Either/Or", 0)} -> #N/A | G20: =E20*F20 -> #N/A
A21: Real-time data availability for deposits and balances (pushed to user instead of user-initiated) | B21: Medium | E21: {=_xlfn.SWITCH(B21, "Critical", 5, "High", 4, "Medium", 3, "Low", 2, "Future", 1)} -> 3 | F21: {=_xlfn.SWITCH(C21, "Core Functionality", 5, "Configurable", 4, "Custom", 3, "Not Available", 0, "Either/Or", 0)} -> #N/A | G21: =E21*F21 -> #N/A
A23: 4. Reporting
A24: Create reports for cash position, liquidity, projected available cash | B24: Medium | E24: {=_xlfn.SWITCH(B24, "Critical", 5, "High", 4, "Medium", 3, "Low", 2, "Future", 1)} -> 3 | F24: {=_xlfn.SWITCH(C24, "Core Functionality", 5, "Configurable", 4, "Custom", 3, "Not Available", 0, "Either/Or", 0)} -> #N/A | G24: =E24*F24 -> #N/A
A25: Support dashboards for real-time visibility into AR, AP, cash balances, current activities | B25: Medium | E25: {=_xlfn.SWITCH(B25, "Critical", 5, "High", 4, "Medium", 3, "Low", 2, "Future", 1)} -> 3 | F25: {=_xlfn.SWITCH(C25, "Core Functionality", 5, "Configurable", 4, "Custom", 3, "Not Available", 0, "Either/Or", 0)} -> #N/A | G25: =E25*F25 -> #N/A
A26: Report idle cash and projected excessive cash balances | B26: Medium | E26: {=_xlfn.SWITCH(B26, "Critical", 5, "High", 4, "Medium", 3, "Low", 2, "Future", 1)} -> 3 | F26: {=_xlfn.SWITCH(C26, "Core Functionality", 5, "Configurable", 4, "Custom", 3, "Not Available", 0, "Either/Or", 0)} -> #N/A | G26: =E26*F26 -> #N/A
A27: Notification of trends towards negative balances, excessive cash, etc. | B27: Medium | E27: {=_xlfn.SWITCH(B27, "Critical", 5, "High", 4, "Medium", 3, "Low", 2, "Future", 1)} -> 3 | F27: {=_xlfn.SWITCH(C27, "Core Functionality", 5, "Configurable", 4, "Custom", 3, "Not Available", 0, "Either/Or", 0)} -> #N/A | G27: =E27*F27 -> #N/A
A29: 5. Workflows
A30: Integrated approval workflow for deposit batches | B30: Critical | E30: {=_xlfn.SWITCH(B30, "Critical", 5, "High", 4, "Medium", 3, "Low", 2, "Future", 1)} -> 5 | F30: {=_xlfn.SWITCH(C30, "Core Functionality", 5, "Configurable", 4, "Custom", 3, "Not Available", 0, "Either/Or", 0)} -> #N/A | G30: =E30*F30 -> #N/A
A31: Configurable workflow engine for approvals and notifications | B31: High | E31: {=_xlfn.SWITCH(B31, "Critical", 5, "High", 4, "Medium", 3, "Low", 2, "Future", 1)} -> 4 | F31: {=_xlfn.SWITCH(C31, "Core Functionality", 5, "Configurable", 4, "Custom", 3, "Not Available", 0, "Either/Or", 0)} -> #N/A | G31: =E31*F31 -> #N/A
A33: 6. Attachments and Links
A34: Support attachments for transactions | B34: Critical | E34: {=_xlfn.SWITCH(B34, "Critical", 5, "High", 4, "Medium", 3, "Low", 2, "Future", 1)} -> 5 | F34: {=_xlfn.SWITCH(C34, "Core Functionality", 5, "Configurable", 4, "Custom", 3, "Not Available", 0, "Either/Or", 0)} -> #N/A | G34: =E34*F34 -> #N/A
A35: Support links to related transactions | B35: High | E35: {=_xlfn.SWITCH(B35, "Critical", 5, "High", 4, "Medium", 3, "Low", 2, "Future", 1)} -> 4 | F35: {=_xlfn.SWITCH(C35, "Core Functionality", 5, "Configurable", 4, "Custom", 3, "Not Available", 0, "Either/Or", 0)} -> #N/A | G35: =E35*F35 -> #N/A

Sheet Reconciliation
A1: Reconciliation Requirements | B1: Priority | C1: Response | D1: Notes/Comments | G1: =SUM(G3:G23) -> #N/A
A2: 1. Transaction Reconciliation
A3: Support reconciling transactions between bank and ERP | B3: High | E3: {=_xlfn.SWITCH(B3, "Critical", 5, "High", 4, "Medium", 3, "Low", 2, "Future", 1)} -> 4 | F3: {=_xlfn.SWITCH(C3, "Core Functionality", 5, "Configurable", 4, "Custom", 3, "Not Available", 0, "Either/Or", 0)} -> #N/A | G3: =E3*F3 -> #N/A
A4: Automatic matching based on configurable rules | B4: High | E4: {=_xlfn.SWITCH(B4, "Critical", 5, "High", 4, "Medium", 3, "Low", 2, "Future", 1)} -> 4 | F4: {=_xlfn.SWITCH(C4, "Core Functionality", 5, "Configurable", 4, "Custom", 3, "Not Available", 0, "Either/Or", 0)} -> #N/A | G4: =E4*F4 -> #N/A
A5: Daily transaction discrepancies (what is in ERP vs what is in bank) | B5: Medium | E5: {=_xlfn.SWITCH(B5, "Critical", 5, "High", 4, "Medium", 3, "Low", 2, "Future", 1)} -> 3 | F5: {=_xlfn.SWITCH(C5, "Core Functionality", 5, "Configurable", 4, "Custom", 3, "Not Available", 0, "Either/Or", 0)} -> #N/A | G5: =E5*F5 -> #N/A
A6: Detect duplicate transactions | B6: High | E6: {=_xlfn.SWITCH(B6, "Critical", 5, "High", 4, "Medium", 3, "Low", 2, "Future", 1)} -> 4 | F6: {=_xlfn.SWITCH(C6, "Core Functionality", 5, "Configurable", 4, "Custom", 3, "Not Available", 0, "Either/Or", 0)} -> #N/A | G6: =E6*F6 -> #N/A
A8: 2. Reports and Analytics
A9: Create reports of discrepancies | B9: High | E9: {=_xlfn.SWITCH(B9, "Critical", 5, "High", 4, "Medium", 3, "Low", 2, "Future", 1)} -> 4 | F9: {=_xlfn.SWITCH(C9, "Core Functionality", 5, "Configurable", 4, "Custom", 3, "Not Available", 0, "Either/Or", 0)} -> #N/A | G9: =E9*F9 -> #N/A
A10: Maintain reconciliation reports | B10: High | E10: {=_xlfn.SWITCH(B10, "Critical", 5, "High", 4, "Medium", 3, "Low", 2, "Future", 1)} -> 4 | F10: {=_xlfn.SWITCH(C10, "Core Functionality", 5, "Configurable", 4, "Custom", 3, "Not Available", 0, "Either/Or", 0)} -> #N/A | G10: =E10*F10 -> #N/A
A12: 3. ZBA
A13: Automatic ZBA transactions entered in ledger | B13: High | E13: {=_xlfn.SWITCH(B13, "Critical", 5, "High", 4, "Medium", 3, "Low", 2, "Future", 1)} -> 4 | F13: {=_xlfn.SWITCH(C13, "Core Functionality", 5, "Configurable", 4, "Custom", 3, "Not Available", 0, "Either/Or", 0)} -> #N/A | G13: =E13*F13 -> #N/A
A14: Integration between bank and ERP for real-time transaction synchronization (not reconciliation) | B14: Low | E14: {=_xlfn.SWITCH(B14, "Critical", 5, "High", 4, "Medium", 3, "Low", 2, "Future", 1)} -> 2 | F14: {=_xlfn.SWITCH(C14, "Core Functionality", 5, "Configurable", 4, "Custom", 3, "Not Available", 0, "Either/Or", 0)} -> #N/A | G14: =E14*F14 -> #N/A
A16: 4. Workflows
A17: Support approval workflows | B17: Critical | E17: {=_xlfn.SWITCH(B17, "Critical", 5, "High", 4, "Medium", 3, "Low", 2, "Future", 1)} -> 5 | F17: {=_xlfn.SWITCH(C17, "Core Functionality", 5, "Configurable", 4, "Custom", 3, "Not Available", 0, "Either/Or", 0)} -> #N/A | G17: =E17*F17 -> #N/A
A18: Configurable workflow engine for approvals and notifications | B18: High | E18: {=_xlfn.SWITCH(B18, "Critical", 5, "High", 4, "Medium", 3, "Low", 2, "Future", 1)} -> 4 | F18: {=_xlfn.SWITCH(C18, "Core Functionality", 5, "Configurable", 4, "Custom", 3, "Not Available", 0, "Either/Or", 0)} -> #N/A | G18: =E18*F18 -> #N/A
A20: 5. Attachments and Links
A21: Support attachments for transactions | B21: Critical | E21: {=_xlfn.SWITCH(B21, "Critical", 5, "High", 4, "Medium", 3, "Low", 2, "Future", 1)} -> 5 | F21: {=_xlfn.SWITCH(C21, "Core Functionality", 5, "Configurable", 4, "Custom", 3, "Not Available", 0, "Either/Or", 0)} -> #N/A | G21: =E21*F21 -> #N/A
A22: Support links to related transactions | B22: High | E22: {=_xlfn.SWITCH(B22, "Critical", 5, "High", 4, "Medium", 3, "Low", 2, "Future", 1)} -> 4 | F22: {=_xlfn.SWITCH(C22, "Core Functionality", 5, "Configurable", 4, "Custom", 3, "Not Available", 0, "Either/Or", 0)} -> #N/A | G22: =E22*F22 -> #N/A

Sheet COA
A1: Chart of Accounts Requirements | B1: Priority | C1: Response | D1: Notes/Comments | G1: =SUM(G3:G34) -> #N/A
A2: 1. General
A3: GAAP compliant | B3: Critical | E3: {=_xlfn.SWITCH(B3, "Critical", 5, "High", 4, "Medium", 3, "Low", 2, "Future", 1)} -> 5 | F3: {=_xlfn.SWITCH(C3, "Core Functionality", 5, "Configurable", 4, "Custom", 3, "Not Available", 0, "Either/Or", 0)} -> #N/A | G3: =E3*F3 -> #N/A
A4: Built-in support for creating required reports: Balance Sheet, P&L, etc. | B4: High | E4: {=_xlfn.SWITCH(B4, "Critical", 5, "High", 4, "Medium", 3, "Low", 2, "Future", 1)} -> 4 | F4: {=_xlfn.SWITCH(C4, "Core Functionality", 5, "Configurable", 4, "Custom", 3, "Not Available", 0, "Either/Or", 0)} -> #N/A | G4: =E4*F4 -> #N/A
A5: Integration and posting across GL and subledgers | B5: High | E5: {=_xlfn.SWITCH(B5, "Critical", 5, "High", 4, "Medium", 3, "Low", 2, "Future", 1)} -> 4 | F5: {=_xlfn.SWITCH(C5, "Core Functionality", 5, "Configurable", 4, "Custom", 3, "Not Available", 0, "Either/Or", 0)} -> #N/A | G5: =E5*F5 -> #N/A
A6: Ability to lock and control periods and prevent posting directly to subledgers | B6: Critical | E6: {=_xlfn.SWITCH(B6, "Critical", 5, "High", 4, "Medium", 3, "Low", 2, "Future", 1)} -> 5 | F6: {=_xlfn.SWITCH(C6, "Core Functionality", 5, "Configurable", 4, "Custom", 3, "Not Available", 0, "Either/Or", 0)} -> #N/A | G6: =E6*F6 -> #N/A
A8: 2. Structure
A9: Use a flexible account numbering scheme that can be changed (instead of being fixed at setup) | B9: High | E9: {=_xlfn.SWITCH(B9, "Critical", 5, "High", 4, "Medium", 3, "Low", 2, "Future", 1)} -> 4 | F9: {=_xlfn.SWITCH(C9, "Core Functionality", 5, "Configurable", 4, "Custom", 3, "Not Available", 0, "Either/Or", 0)} -> #N/A | G9: =E9*F9 -> #N/A
A10: Ability to add, modify, or retire accounts without affecting historical data | B10: Critical | E10: {=_xlfn.SWITCH(B10, "Critical", 5, "High", 4, "Medium", 3, "Low", 2, "Future", 1)} -> 5 | F10: {=_xlfn.SWITCH(C10, "Core Functionality", 5, "Configurable", 4, "Custom", 3, "Not Available", 0, "Either/Or", 0)} -> #N/A | G10: =E10*F10 -> #N/A
A11: Does not use a string structure | B11: Medium | E11: {=_xlfn.SWITCH(B11, "Critical", 5, "High", 4, "Medium", 3, "Low", 2, "Future", 1)} -> 3 | F11: {=_xlfn.SWITCH(C11, "Core Functionality", 5, "Configurable", 4, "Custom", 3, "Not Available", 0, "Either/Or", 0)} -> #N/A | G11: =E11*F11 -> #N/A
A12: Set rules for when a segment/dimension is required or not | B12: High | E12: {=_xlfn.SWITCH(B12, "Critical", 5, "High", 4, "Medium", 3, "Low", 2, "Future", 1)} -> 4 | F12: {=_xlfn.SWITCH(C12, "Core Functionality", 5, "Configurable", 4, "Custom", 3, "Not Available", 0, "Either/Or", 0)} -> #N/A | G12: =E12*F12 -> #N/A
A13: Set up logical rules for segments/dimensions | B13: High | E13: {=_xlfn.SWITCH(B13, "Critical", 5, "High", 4, "Medium", 3, "Low", 2, "Future", 1)} -> 4 | F13: {=_xlfn.SWITCH(C13, "Core Functionality", 5, "Configurable", 4, "Custom", 3, "Not Available", 0, "Either/Or", 0)} -> #N/A | G13: =E13*F13 -> #N/A
A14: Support of subsidiary companies | B14: Medium | E14: {=_xlfn.SWITCH(B14, "Critical", 5, "High", 4, "Medium", 3, "Low", 2, "Future", 1)} -> 3 | F14: {=_xlfn.SWITCH(C14, "Core Functionality", 5, "Configurable", 4, "Custom", 3, "Not Available", 0, "Either/Or", 0)} -> #N/A | G14: =E14*F14 -> #N/A
A15: Non-profit and grant compliance (grant accounts are a segment) | B15: Medium | E15: {=_xlfn.SWITCH(B15, "Critical", 5, "High", 4, "Medium", 3, "Low", 2, "Future", 1)} -> 3 | F15: {=_xlfn.SWITCH(C15, "Core Functionality", 5, "Configurable", 4, "Custom", 3, "Not Available", 0, "Either/Or", 0)} -> #N/A | G15: =E15*F15 -> #N/A
A16: Intercompany can be set up as a segment (does not require a reclassification) | B16: Medium | E16: {=_xlfn.SWITCH(B16, "Critical", 5, "High", 4, "Medium", 3, "Low", 2, "Future", 1)} -> 3 | F16: {=_xlfn.SWITCH(C16, "Core Functionality", 5, "Configurable", 4, "Custom", 3, "Not Available", 0, "Either/Or", 0)} -> #N/A | G16: =E16*F16 -> #N/A
A17: Variable-length account numbers (not all segments are always required) | B17: High | E17: {=_xlfn.SWITCH(B17, "Critical", 5, "High", 4, "Medium", 3, "Low", 2, "Future", 1)} -> 4 | F17: {=_xlfn.SWITCH(C17, "Core Functionality", 5, "Configurable", 4, "Custom", 3, "Not Available", 0, "Either/Or", 0)} -> #N/A | G17: =E17*F17 -> #N/A
A19: 3. Attributes and Categories
A20: Predefined account categories (asset, liability, expenses, etc.) | B20: High | E20: {=_xlfn.SWITCH(B20, "Critical", 5, "High", 4, "Medium", 3, "Low", 2, "Future", 1)} -> 4 | F20: {=_xlfn.SWITCH(C20, "Core Functionality", 5, "Configurable", 4, "Custom", 3, "Not Available", 0, "Either/Or", 0)} -> #N/A | G20: =E20*F20 -> #N/A
A21: Useful account subcategories (current, operating, etc.) | B21: High | E21: {=_xlfn.SWITCH(B21, "Critical", 5, "High", 4, "Medium", 3, "Low", 2, "Future", 1)} -> 4 | F21: {=_xlfn.SWITCH(C21, "Core Functionality", 5, "Configurable", 4, "Custom", 3, "Not Available", 0, "Either/Or", 0)} -> #N/A | G21: =E21*F21 -> #N/A
A22: Support for configurable account attributes (posting vs non-posting, AR/AP tied to subledgers) | B22: High | E22: {=_xlfn.SWITCH(B22, "Critical", 5, "High", 4, "Medium", 3, "Low", 2, "Future", 1)} -> 4 | F22: {=_xlfn.SWITCH(C22, "Core Functionality", 5, "Configurable", 4, "Custom", 3, "Not Available", 0, "Either/Or", 0)} -> #N/A | G22: =E22*F22 -> #N/A
A23: Support for custom account classifications | B23: Medium | E23: {=_xlfn.SWITCH(B23, "Critical", 5, "High", 4, "Medium", 3, "Low", 2, "Future", 1)} -> 3 | F23: {=_xlfn.SWITCH(C23, "Core Functionality", 5, "Configurable", 4, "Custom", 3, "Not Available", 0, "Either/Or", 0)} -> #N/A | G23: =E23*F23 -> #N/A
A25: 4. Account Rollups
A26: Support parent-child style hierarchies (account rollups) | B26: High | E26: {=_xlfn.SWITCH(B26, "Critical", 5, "High", 4, "Medium", 3, "Low", 2, "Future", 1)} -> 4 | F26: {=_xlfn.SWITCH(C26, "Core Functionality", 5, "Configurable", 4, "Custom", 3, "Not Available", 0, "Either/Or", 0)} -> #N/A | G26: =E26*F26 -> #N/A
A27: Support aggregation for reporting (e.g., trial balance, financial statements) through multi-level rollups | B27: High | E27: {=_xlfn.SWITCH(B27, "Critical", 5, "High", 4, "Medium", 3, "Low", 2, "Future", 1)} -> 4 | F27: {=_xlfn.SWITCH(C27, "Core Functionality", 5, "Configurable", 4, "Custom", 3, "Not Available", 0, "Either/Or", 0)} -> #N/A | G27: =E27*F27 -> #N/A
A29: 5. Reporting
A30: Maintains an audit trail (standard and custom) | B30: Critical | E30: {=_xlfn.SWITCH(B30, "Critical", 5, "High", 4, "Medium", 3, "Low", 2, "Future", 1)} -> 5 | F30: {=_xlfn.SWITCH(C30, "Core Functionality", 5, "Configurable", 4, "Custom", 3, "Not Available", 0, "Either/Or", 0)} -> #N/A | G30: =E30*F30 -> #N/A
A32: 6. Workflows
A33: Support approval workflows | B33: Critical | E33: {=_xlfn.SWITCH(B33, "Critical", 5, "High", 4, "Medium", 3, "Low", 2, "Future", 1)} -> 5 | F33: {=_xlfn.SWITCH(C33, "Core Functionality", 5, "Configurable", 4, "Custom", 3, "Not Available", 0, "Either/Or", 0)} -> #N/A | G33: =E33*F33 -> #N/A
A34: Configurable workflow engine for approvals and notifications | B34: High | E34: {=_xlfn.SWITCH(B34, "Critical", 5, "High", 4, "Medium", 3, "Low", 2, "Future", 1)} -> 4 | F34: {=_xlfn.SWITCH(C34, "Core Functionality", 5, "Configurable", 4, "Custom", 3, "Not Available", 0, "Either/Or", 0)} -> #N/A | G34: =E34*F34 -> #N/A

Sheet Closing
A1: Chart of Accounts Requirements | B1: Priority | C1: Response | D1: Notes/Comments | G1: =SUM(G3:G9) -> #N/A
A2: 1. General
A3: Support month and year end equity rolls | B3: Critical | E3: {=_xlfn.SWITCH(B3, "Critical", 5, "High", 4, "Medium", 3, "Low", 2, "Future", 1)} -> 5 | F3: {=_xlfn.SWITCH(C3, "Core Functionality", 5, "Configurable", 4, "Custom", 3, "Not Available", 0, "Either/Or", 0)} -> #N/A | G3: =E3*F3 -> #N/A
A4: Support automation of a central treasury entry | B4: High | E4: {=_xlfn.SWITCH(B4, "Critical", 5, "High", 4, "Medium", 3, "Low", 2, "Future", 1)} -> 4 | F4: {=_xlfn.SWITCH(C4, "Core Functionality", 5, "Configurable", 4, "Custom", 3, "Not Available", 0, "Either/Or", 0)} -> #N/A | G4: =E4*F4 -> #N/A
A5: Support automation of due to/from entries | B5: High | E5: {=_xlfn.SWITCH(B5, "Critical", 5, "High", 4, "Medium", 3, "Low", 2, "Future", 1)} -> 4 | F5: {=_xlfn.SWITCH(C5, "Core Functionality", 5, "Configurable", 4, "Custom", 3, "Not Available", 0, "Either/Or", 0)} -> #N/A | G5: =E5*F5 -> #N/A
A6: Support automation of elimation entries | B6: High | E6: {=_xlfn.SWITCH(B6, "Critical", 5, "High", 4, "Medium", 3, "Low", 2, "Future", 1)} -> 4 | F6: {=_xlfn.SWITCH(C6, "Core Functionality", 5, "Configurable", 4, "Custom", 3, "Not Available", 0, "Either/Or", 0)} -> #N/A | G6: =E6*F6 -> #N/A
A8: 2. Workflows
A9: Support workflow for automated entries to be review and approved in batches | B9: Critical | E9: {=_xlfn.SWITCH(B9, "Critical", 5, "High", 4, "Medium", 3, "Low", 2, "Future", 1)} -> 5 | F9: {=_xlfn.SWITCH(C9, "Core Functionality", 5, "Configurable", 4, "Custom", 3, "Not Available", 0, "Either/Or", 0)} -> #N/A | G9: =E9*F9 -> #N/A

Sheet Sales Intro
A1: Sales Introduction
A3: Overview
A4: CVRF uses Dynamics GP to manage accounting functions for Corporate, CAPS, and Programs. All accounting data from CAPS and Programs ultimately is processed through Dynamics GP.
A6: Goals
A7: CVRF needs a seamless Production-to-Inventory-to-Sales-to-Accounts Receivable and Work Order-to-Accounts Receivable solution to eliminate duplicate efforts, facilitate automation, and ensure accuracy and compliance. CVRF needs a single source of truth for sales, inventory, and customer data. A single solution is not necessary, but there must be demonstrable connectivity or integration with 3rd-party applications that can better meet CVRF requirements. CVRF is interested in all the functionality of your offering, but wants the option to find best-in-class modules or applications.
A9: CAPS
A10: Although CAPS uses SalesPad and Excel Workbooks to manage saleable inventory, sales orders, and shipments, all Accounts Receivable activities are performed in Dynamics GP A/R module. CAPS also uses emails and phone calls to manage customer relationships, not a traditional CRM. Many records for sales (contracts, emails, Excel Workbooks) are stored on a shared network drive. CAPS does not have a large number of customers and a traditional CRM may be too heavy; however, some functionality of a CRM may be useful.
A12: Programs
A13: The Mechanic/Welder shops do not use an electronic system to manage sales, stock, standard work orders, or timekeeping against a work order. Much of the data is managed in Excel Workbooks, including work orders, inventory, gift certificates, and payments. Some Work Order data is captured through an online portal, and there is a custom light-weight application being developed to more closely manage Mechanic/Welder shop revenue. An electronic, integrated system is wanted for the Mechanic/Welder shops, but it must be accessible and friendly for workers who want to concentrate on work, not paperwork. Because the Mechanic/Welder shops are not a major revenue generator, the solution needs to be economical and easy to set up and maintain. A solution for the Mechanic/Welder shop operations is not a requirement, but the core ERP system must have some mechanism to absorb or import sales and revenue data from the Mechanic/Welder shops.
A14: Programs also uses a custom CRM ("Custom CRM" herein) to manage residency status and participation in programs, these activities currently feed into GP in some instances to allow for reduction in manual data entry. Being able to maintian this workflow is important to the team. The programs department is working toward the acquisition of more grant funding. Currently all grant reporting and compliance management are done utilizing excel workbooks.
A16: Corporate
A17: CVRF Corporate also generates some revenue through rents, moorage, tendering, and leased quota royalties. Rent schedules and ammendments are handeled with excel spreadsheets but greater lease accounting compliance through automation would be of interest. Additionally leased quota is not covered by ASC 842 but is covered by ASC 606. Leased quotas work into complex calculations for revenue generation, fess and taxes payable, and crew earnings. CVRF Corporate accountants handle these receivables and all transactions from the Mechanic/Welder shops.

Sheet CRM
A1: CRM Requirements | B1: Priority | C1: Response | D1: Notes/Comments | G1: =SUM(G3:G22) -> #N/A
A2: 1. Core Entities & Data Requirements
A3: Light-weight CRM for up to 30 customers (see "Sales" tab) | B3: High | E3: {=_xlfn.SWITCH(B3, "Critical", 5, "High", 4, "Medium", 3, "Low", 2, "Future", 1)} -> 4 | F3: {=_xlfn.SWITCH(C3, "Core Functionality", 5, "Configurable", 4, "Custom", 3, "Not Available", 0, "Either/Or", 0)} -> #N/A | G3: =E3*F3 -> #N/A
A4: Establish required fields | B4: High | E4: {=_xlfn.SWITCH(B4, "Critical", 5, "High", 4, "Medium", 3, "Low", 2, "Future", 1)} -> 4 | F4: {=_xlfn.SWITCH(C4, "Core Functionality", 5, "Configurable", 4, "Custom", 3, "Not Available", 0, "Either/Or", 0)} -> #N/A | G4: =E4*F4 -> #N/A
A6: 2. Functional Requirements
A7: Light-weight functionality to track and store customer interactions for negotiations, sales contracts, order requests, returns, etc. | B7: Medium | E7: {=_xlfn.SWITCH(B7, "Critical", 5, "High", 4, "Medium", 3, "Low", 2, "Future", 1)} -> 3 | F7: {=_xlfn.SWITCH(C7, "Core Functionality", 5, "Configurable", 4, "Custom", 3, "Not Available", 0, "Either/Or", 0)} -> #N/A | G7: =E7*F7 -> #N/A
A8: Integration with Sales and AR for pricing, customer locations, and other contract terms. | B8: Medium | E8: {=_xlfn.SWITCH(B8, "Critical", 5, "High", 4, "Medium", 3, "Low", 2, "Future", 1)} -> 3 | F8: {=_xlfn.SWITCH(C8, "Core Functionality", 5, "Configurable", 4, "Custom", 3, "Not Available", 0, "Either/Or", 0)} -> #N/A | G8: =E8*F8 -> #N/A
A9: Analyze customer interactions to generate notifications for customer follow-ups | B9: Medium | E9: {=_xlfn.SWITCH(B9, "Critical", 5, "High", 4, "Medium", 3, "Low", 2, "Future", 1)} -> 3 | F9: {=_xlfn.SWITCH(C9, "Core Functionality", 5, "Configurable", 4, "Custom", 3, "Not Available", 0, "Either/Or", 0)} -> #N/A | G9: =E9*F9 -> #N/A
A10: Integrate with Outlook, Teams, etc. to import email, generate email, create meeting requests, etc. | B10: Medium | E10: {=_xlfn.SWITCH(B10, "Critical", 5, "High", 4, "Medium", 3, "Low", 2, "Future", 1)} -> 3 | F10: {=_xlfn.SWITCH(C10, "Core Functionality", 5, "Configurable", 4, "Custom", 3, "Not Available", 0, "Either/Or", 0)} -> #N/A | G10: =E10*F10 -> #N/A
A11: Integrate with Sales and AR modules to facilitate populating AR Invoice, Sales Orders, etc. | B11: Medium | E11: {=_xlfn.SWITCH(B11, "Critical", 5, "High", 4, "Medium", 3, "Low", 2, "Future", 1)} -> 3 | F11: {=_xlfn.SWITCH(C11, "Core Functionality", 5, "Configurable", 4, "Custom", 3, "Not Available", 0, "Either/Or", 0)} -> #N/A | G11: =E11*F11 -> #N/A
A13: 3. Workflows
A14: Support approval workflows | B14: Critical | E14: {=_xlfn.SWITCH(B14, "Critical", 5, "High", 4, "Medium", 3, "Low", 2, "Future", 1)} -> 5 | F14: {=_xlfn.SWITCH(C14, "Core Functionality", 5, "Configurable", 4, "Custom", 3, "Not Available", 0, "Either/Or", 0)} -> #N/A | G14: =E14*F14 -> #N/A
A15: Configurable workflow engine for approvals and notifications | B15: High | E15: {=_xlfn.SWITCH(B15, "Critical", 5, "High", 4, "Medium", 3, "Low", 2, "Future", 1)} -> 4 | F15: {=_xlfn.SWITCH(C15, "Core Functionality", 5, "Configurable", 4, "Custom", 3, "Not Available", 0, "Either/Or", 0)} -> #N/A | G15: =E15*F15 -> #N/A
A17: 4. Attachments
A18: Support attachments for interactions | B18: Critical | E18: {=_xlfn.SWITCH(B18, "Critical", 5, "High", 4, "Medium", 3, "Low", 2, "Future", 1)} -> 5 | F18: {=_xlfn.SWITCH(C18, "Core Functionality", 5, "Configurable", 4, "Custom", 3, "Not Available", 0, "Either/Or", 0)} -> #N/A | G18: =E18*F18 -> #N/A
A19: Support links to related interactions | B19: High | E19: {=_xlfn.SWITCH(B19, "Critical", 5, "High", 4, "Medium", 3, "Low", 2, "Future", 1)} -> 4 | F19: {=_xlfn.SWITCH(C19, "Core Functionality", 5, "Configurable", 4, "Custom", 3, "Not Available", 0, "Either/Or", 0)} -> #N/A | G19: =E19*F19 -> #N/A
A21: 5. Data
A22: Support data fields and structures to migrate required data from TeroMarine and Dynamics GP | B22: High | E22: {=_xlfn.SWITCH(B22, "Critical", 5, "High", 4, "Medium", 3, "Low", 2, "Future", 1)} -> 4 | F22: {=_xlfn.SWITCH(C22, "Core Functionality", 5, "Configurable", 4, "Custom", 3, "Not Available", 0, "Either/Or", 0)} -> #N/A | G22: =E22*F22 -> #N/A

Sheet Sales
A1: Sales Requirements | B1: Priority | C1: Response | D1: Notes/Comments | G1: =SUM(G3:G125) -> #N/A
A2: 1. Customer & Contract Management
A3: Maintain customer master data (buyers, wholesalers, distributors, shipping details, premiums, terms, etc.) | B3: High | E3: {=_xlfn.SWITCH(B3, "Critical", 5, "High", 4, "Medium", 3, "Low", 2, "Future", 1)} -> 4 | F3: {=_xlfn.SWITCH(C3, "Core Functionality", 5, "Configurable", 4, "Custom", 3, "Not Available", 0, "Either/Or", 0)} -> #N/A | G3: =E3*F3 -> #N/A
A4: Maintain pre-negotiated contract details (pricing, volume commitments, duration, terms, etc.) | B4: High | E4: {=_xlfn.SWITCH(B4, "Critical", 5, "High", 4, "Medium", 3, "Low", 2, "Future", 1)} -> 4 | F4: {=_xlfn.SWITCH(C4, "Core Functionality", 5, "Configurable", 4, "Custom", 3, "Not Available", 0, "Either/Or", 0)} -> #N/A | G4: =E4*F4 -> #N/A
A5: Store contract terms, including payment terms, credit limits, preferential ranking, etc. | B5: High | E5: {=_xlfn.SWITCH(B5, "Critical", 5, "High", 4, "Medium", 3, "Low", 2, "Future", 1)} -> 4 | F5: {=_xlfn.SWITCH(C5, "Core Functionality", 5, "Configurable", 4, "Custom", 3, "Not Available", 0, "Either/Or", 0)} -> #N/A | G5: =E5*F5 -> #N/A
A6: Manage customer hierarchy (parent/child accounts, multiple locations) | B6: High | E6: {=_xlfn.SWITCH(B6, "Critical", 5, "High", 4, "Medium", 3, "Low", 2, "Future", 1)} -> 4 | F6: {=_xlfn.SWITCH(C6, "Core Functionality", 5, "Configurable", 4, "Custom", 3, "Not Available", 0, "Either/Or", 0)} -> #N/A | G6: =E6*F6 -> #N/A
A7: Track contract utilization | B7: Low | E7: {=_xlfn.SWITCH(B7, "Critical", 5, "High", 4, "Medium", 3, "Low", 2, "Future", 1)} -> 2 | F7: {=_xlfn.SWITCH(C7, "Core Functionality", 5, "Configurable", 4, "Custom", 3, "Not Available", 0, "Either/Or", 0)} -> #N/A | G7: =E7*F7 -> #N/A
A8: Support priority customer rules (premium prices, volume terms, etc.) | B8: Medium | E8: {=_xlfn.SWITCH(B8, "Critical", 5, "High", 4, "Medium", 3, "Low", 2, "Future", 1)} -> 3 | F8: {=_xlfn.SWITCH(C8, "Core Functionality", 5, "Configurable", 4, "Custom", 3, "Not Available", 0, "Either/Or", 0)} -> #N/A | G8: =E8*F8 -> #N/A
A9: Support integration of importation of data from spot roe auctions | B9: Medium | E9: {=_xlfn.SWITCH(B9, "Critical", 5, "High", 4, "Medium", 3, "Low", 2, "Future", 1)} -> 3 | F9: {=_xlfn.SWITCH(C9, "Core Functionality", 5, "Configurable", 4, "Custom", 3, "Not Available", 0, "Either/Or", 0)} -> #N/A | G9: =E9*F9 -> #N/A
A10: Support importation of data from existing customer data Excel Workbooks | B10: Medium | E10: {=_xlfn.SWITCH(B10, "Critical", 5, "High", 4, "Medium", 3, "Low", 2, "Future", 1)} -> 3 | F10: {=_xlfn.SWITCH(C10, "Core Functionality", 5, "Configurable", 4, "Custom", 3, "Not Available", 0, "Either/Or", 0)} -> #N/A | G10: =E10*F10 -> #N/A
A11: Establish required fields | B11: High | E11: {=_xlfn.SWITCH(B11, "Critical", 5, "High", 4, "Medium", 3, "Low", 2, "Future", 1)} -> 4 | F11: {=_xlfn.SWITCH(C11, "Core Functionality", 5, "Configurable", 4, "Custom", 3, "Not Available", 0, "Either/Or", 0)} -> #N/A | G11: =E11*F11 -> #N/A
A12: Light-weight customer portal where prospective or current customers can view, add, or update customer master data (subject to approval) | B12: Medium | E12: {=_xlfn.SWITCH(B12, "Critical", 5, "High", 4, "Medium", 3, "Low", 2, "Future", 1)} -> 3 | F12: {=_xlfn.SWITCH(C12, "Core Functionality", 5, "Configurable", 4, "Custom", 3, "Not Available", 0, "Either/Or", 0)} -> #N/A | G12: =E12*F12 -> #N/A
A13: Support OCR for processing contracts | B13: High | E13: {=_xlfn.SWITCH(B13, "Critical", 5, "High", 4, "Medium", 3, "Low", 2, "Future", 1)} -> 4 | F13: {=_xlfn.SWITCH(C13, "Core Functionality", 5, "Configurable", 4, "Custom", 3, "Not Available", 0, "Either/Or", 0)} -> #N/A | G13: =E13*F13 -> #N/A
A14: Support import or access to customer data in sales, inventory, roe auctions, etc. Workbooks | B14: Medium | E14: {=_xlfn.SWITCH(B14, "Critical", 5, "High", 4, "Medium", 3, "Low", 2, "Future", 1)} -> 3 | F14: {=_xlfn.SWITCH(C14, "Core Functionality", 5, "Configurable", 4, "Custom", 3, "Not Available", 0, "Either/Or", 0)} -> #N/A | G14: =E14*F14 -> #N/A
A16: 2. Order Management
A17: Support standing and recurring orders | B17: High | E17: {=_xlfn.SWITCH(B17, "Critical", 5, "High", 4, "Medium", 3, "Low", 2, "Future", 1)} -> 4 | F17: {=_xlfn.SWITCH(C17, "Core Functionality", 5, "Configurable", 4, "Custom", 3, "Not Available", 0, "Either/Or", 0)} -> #N/A | G17: =E17*F17 -> #N/A
A18: Establish required fields | B18: High | E18: {=_xlfn.SWITCH(B18, "Critical", 5, "High", 4, "Medium", 3, "Low", 2, "Future", 1)} -> 4 | F18: {=_xlfn.SWITCH(C18, "Core Functionality", 5, "Configurable", 4, "Custom", 3, "Not Available", 0, "Either/Or", 0)} -> #N/A | G18: =E18*F18 -> #N/A
A19: Allow partial fulfillment and track partial shipments | B19: High | E19: {=_xlfn.SWITCH(B19, "Critical", 5, "High", 4, "Medium", 3, "Low", 2, "Future", 1)} -> 4 | F19: {=_xlfn.SWITCH(C19, "Core Functionality", 5, "Configurable", 4, "Custom", 3, "Not Available", 0, "Either/Or", 0)} -> #N/A | G19: =E19*F19 -> #N/A
A20: Track order status (confirmed, allocated, packed, shipped, delivered) | B20: High | E20: {=_xlfn.SWITCH(B20, "Critical", 5, "High", 4, "Medium", 3, "Low", 2, "Future", 1)} -> 4 | F20: {=_xlfn.SWITCH(C20, "Core Functionality", 5, "Configurable", 4, "Custom", 3, "Not Available", 0, "Either/Or", 0)} -> #N/A | G20: =E20*F20 -> #N/A
A21: Recommend orders fulfillment based on contracts, priority customer rules | B21: Medium | E21: {=_xlfn.SWITCH(B21, "Critical", 5, "High", 4, "Medium", 3, "Low", 2, "Future", 1)} -> 3 | F21: {=_xlfn.SWITCH(C21, "Core Functionality", 5, "Configurable", 4, "Custom", 3, "Not Available", 0, "Either/Or", 0)} -> #N/A | G21: =E21*F21 -> #N/A
A22: Light-weight customer portal where customers can submit a purchase request, and then view the status of the purhase | B22: Medium | E22: {=_xlfn.SWITCH(B22, "Critical", 5, "High", 4, "Medium", 3, "Low", 2, "Future", 1)} -> 3 | F22: {=_xlfn.SWITCH(C22, "Core Functionality", 5, "Configurable", 4, "Custom", 3, "Not Available", 0, "Either/Or", 0)} -> #N/A | G22: =E22*F22 -> #N/A
A23: Purchase requests from the customer portal will create a notification or purchase request in the ERP system | B23: Medium | E23: {=_xlfn.SWITCH(B23, "Critical", 5, "High", 4, "Medium", 3, "Low", 2, "Future", 1)} -> 3 | F23: {=_xlfn.SWITCH(C23, "Core Functionality", 5, "Configurable", 4, "Custom", 3, "Not Available", 0, "Either/Or", 0)} -> #N/A | G23: =E23*F23 -> #N/A
A24: Support OCR for processing emailed orders | B24: High | E24: {=_xlfn.SWITCH(B24, "Critical", 5, "High", 4, "Medium", 3, "Low", 2, "Future", 1)} -> 4 | F24: {=_xlfn.SWITCH(C24, "Core Functionality", 5, "Configurable", 4, "Custom", 3, "Not Available", 0, "Either/Or", 0)} -> #N/A | G24: =E24*F24 -> #N/A
A26: 3. Allocation & Availability
A27: Recommend allocation based on contracts and priority customer rules | B27: Medium | E27: {=_xlfn.SWITCH(B27, "Critical", 5, "High", 4, "Medium", 3, "Low", 2, "Future", 1)} -> 3 | F27: {=_xlfn.SWITCH(C27, "Core Functionality", 5, "Configurable", 4, "Custom", 3, "Not Available", 0, "Either/Or", 0)} -> #N/A | G27: =E27*F27 -> #N/A
A28: Display real-time availability categorized by species, quality, finished product | B28: High | E28: {=_xlfn.SWITCH(B28, "Critical", 5, "High", 4, "Medium", 3, "Low", 2, "Future", 1)} -> 4 | F28: {=_xlfn.SWITCH(C28, "Core Functionality", 5, "Configurable", 4, "Custom", 3, "Not Available", 0, "Either/Or", 0)} -> #N/A | G28: =E28*F28 -> #N/A
A29: Allow manual overrides based on roles | B29: High | E29: {=_xlfn.SWITCH(B29, "Critical", 5, "High", 4, "Medium", 3, "Low", 2, "Future", 1)} -> 4 | F29: {=_xlfn.SWITCH(C29, "Core Functionality", 5, "Configurable", 4, "Custom", 3, "Not Available", 0, "Either/Or", 0)} -> #N/A | G29: =E29*F29 -> #N/A
A30: Light-weight customer portal where customers can see real-time data on available inventory, possible incoming inventory, including upcoming roe spot auctions | B30: Medium | E30: {=_xlfn.SWITCH(B30, "Critical", 5, "High", 4, "Medium", 3, "Low", 2, "Future", 1)} -> 3 | F30: {=_xlfn.SWITCH(C30, "Core Functionality", 5, "Configurable", 4, "Custom", 3, "Not Available", 0, "Either/Or", 0)} -> #N/A | G30: =E30*F30 -> #N/A
A32: 4. Pricing Management
A33: Maintain contract pricing history | B33: High | E33: {=_xlfn.SWITCH(B33, "Critical", 5, "High", 4, "Medium", 3, "Low", 2, "Future", 1)} -> 4 | F33: {=_xlfn.SWITCH(C33, "Core Functionality", 5, "Configurable", 4, "Custom", 3, "Not Available", 0, "Either/Or", 0)} -> #N/A | G33: =E33*F33 -> #N/A
A34: Support tiered pricing for volume | B34: High | E34: {=_xlfn.SWITCH(B34, "Critical", 5, "High", 4, "Medium", 3, "Low", 2, "Future", 1)} -> 4 | F34: {=_xlfn.SWITCH(C34, "Core Functionality", 5, "Configurable", 4, "Custom", 3, "Not Available", 0, "Either/Or", 0)} -> #N/A | G34: =E34*F34 -> #N/A
A35: Handle adjustments for quality and market changes | B35: High | E35: {=_xlfn.SWITCH(B35, "Critical", 5, "High", 4, "Medium", 3, "Low", 2, "Future", 1)} -> 4 | F35: {=_xlfn.SWITCH(C35, "Core Functionality", 5, "Configurable", 4, "Custom", 3, "Not Available", 0, "Either/Or", 0)} -> #N/A | G35: =E35*F35 -> #N/A
A36: Track pricing performance (contracted vs realized) | B36: High | E36: {=_xlfn.SWITCH(B36, "Critical", 5, "High", 4, "Medium", 3, "Low", 2, "Future", 1)} -> 4 | F36: {=_xlfn.SWITCH(C36, "Core Functionality", 5, "Configurable", 4, "Custom", 3, "Not Available", 0, "Either/Or", 0)} -> #N/A | G36: =E36*F36 -> #N/A
A37: Light-weight customer portal where customers can see pricing on available inventory | B37: Medium | E37: {=_xlfn.SWITCH(B37, "Critical", 5, "High", 4, "Medium", 3, "Low", 2, "Future", 1)} -> 3 | F37: {=_xlfn.SWITCH(C37, "Core Functionality", 5, "Configurable", 4, "Custom", 3, "Not Available", 0, "Either/Or", 0)} -> #N/A | G37: =E37*F37 -> #N/A
A39: 5. Product Management
A40: Manage species, grade, size attributes | B40: High | E40: {=_xlfn.SWITCH(B40, "Critical", 5, "High", 4, "Medium", 3, "Low", 2, "Future", 1)} -> 4 | F40: {=_xlfn.SWITCH(C40, "Core Functionality", 5, "Configurable", 4, "Custom", 3, "Not Available", 0, "Either/Or", 0)} -> #N/A | G40: =E40*F40 -> #N/A
A41: Support multiple pack configurations | B41: High | E41: {=_xlfn.SWITCH(B41, "Critical", 5, "High", 4, "Medium", 3, "Low", 2, "Future", 1)} -> 4 | F41: {=_xlfn.SWITCH(C41, "Core Functionality", 5, "Configurable", 4, "Custom", 3, "Not Available", 0, "Either/Or", 0)} -> #N/A | G41: =E41*F41 -> #N/A
A42: Support complex combinations like species + grade + pack style | B42: High | E42: {=_xlfn.SWITCH(B42, "Critical", 5, "High", 4, "Medium", 3, "Low", 2, "Future", 1)} -> 4 | F42: {=_xlfn.SWITCH(C42, "Core Functionality", 5, "Configurable", 4, "Custom", 3, "Not Available", 0, "Either/Or", 0)} -> #N/A | G42: =E42*F42 -> #N/A
A43: Support split orders | B43: High | E43: {=_xlfn.SWITCH(B43, "Critical", 5, "High", 4, "Medium", 3, "Low", 2, "Future", 1)} -> 4 | F43: {=_xlfn.SWITCH(C43, "Core Functionality", 5, "Configurable", 4, "Custom", 3, "Not Available", 0, "Either/Or", 0)} -> #N/A | G43: =E43*F43 -> #N/A
A44: Link attributes to pricing and contracts | B44: Medium | E44: {=_xlfn.SWITCH(B44, "Critical", 5, "High", 4, "Medium", 3, "Low", 2, "Future", 1)} -> 3 | F44: {=_xlfn.SWITCH(C44, "Core Functionality", 5, "Configurable", 4, "Custom", 3, "Not Available", 0, "Either/Or", 0)} -> #N/A | G44: =E44*F44 -> #N/A
...

Sheet Sales Inventory
A1: Inventory Requirements | B1: Priority | C1: Response | D1: Notes/Comments | G1: =SUM(G3:G58) -> #N/A
A2: 1. Quota Management
A3: Allow importation of data from quota workbooks | B3: Medium | E3: {=_xlfn.SWITCH(B3, "Critical", 5, "High", 4, "Medium", 3, "Low", 2, "Future", 1)} -> 3 | F3: {=_xlfn.SWITCH(C3, "Core Functionality", 5, "Configurable", 4, "Custom", 3, "Not Available", 0, "Either/Or", 0)} -> #N/A | G3: =E3*F3 -> #N/A
A4: Allow at least some quota allocations to be managed within Inventory planning functionality | B4: Medium | E4: {=_xlfn.SWITCH(B4, "Critical", 5, "High", 4, "Medium", 3, "Low", 2, "Future", 1)} -> 3 | F4: {=_xlfn.SWITCH(C4, "Core Functionality", 5, "Configurable", 4, "Custom", 3, "Not Available", 0, "Either/Or", 0)} -> #N/A | G4: =E4*F4 -> #N/A
A5: Allow quota allocation adjustments based on DPRs, Fish Tickets, Sea State data | B5: Medium | E5: {=_xlfn.SWITCH(B5, "Critical", 5, "High", 4, "Medium", 3, "Low", 2, "Future", 1)} -> 3 | F5: {=_xlfn.SWITCH(C5, "Core Functionality", 5, "Configurable", 4, "Custom", 3, "Not Available", 0, "Either/Or", 0)} -> #N/A | G5: =E5*F5 -> #N/A
A6: Allow importation of data from eLandings and Sea State, Inc. | B6: Medium | E6: {=_xlfn.SWITCH(B6, "Critical", 5, "High", 4, "Medium", 3, "Low", 2, "Future", 1)} -> 3 | F6: {=_xlfn.SWITCH(C6, "Core Functionality", 5, "Configurable", 4, "Custom", 3, "Not Available", 0, "Either/Or", 0)} -> #N/A | G6: =E6*F6 -> #N/A
A7: End-to-end traceability from quota allocation to delivered lot | B7: Critical | E7: {=_xlfn.SWITCH(B7, "Critical", 5, "High", 4, "Medium", 3, "Low", 2, "Future", 1)} -> 5 | F7: {=_xlfn.SWITCH(C7, "Core Functionality", 5, "Configurable", 4, "Custom", 3, "Not Available", 0, "Either/Or", 0)} -> #N/A | G7: =E7*F7 -> #N/A
A9: 2. Harvest / Catch Management
A10: Allow importation of data from DPRs, Innova, eLandings, Sea State, Inc. data into Inventory system to monitor production/harvest levels | B10: High | E10: {=_xlfn.SWITCH(B10, "Critical", 5, "High", 4, "Medium", 3, "Low", 2, "Future", 1)} -> 4 | F10: {=_xlfn.SWITCH(C10, "Core Functionality", 5, "Configurable", 4, "Custom", 3, "Not Available", 0, "Either/Or", 0)} -> #N/A | G10: =E10*F10 -> #N/A
A11: Use Quota data to project upcoming inventory using quota allocations, season open and close dates | B11: Medium | E11: {=_xlfn.SWITCH(B11, "Critical", 5, "High", 4, "Medium", 3, "Low", 2, "Future", 1)} -> 3 | F11: {=_xlfn.SWITCH(C11, "Core Functionality", 5, "Configurable", 4, "Custom", 3, "Not Available", 0, "Either/Or", 0)} -> #N/A | G11: =E11*F11 -> #N/A
A13: 3. Lot & Traceability Management
A14: Allow importation of data from Innova for batches, lots, species, date, vessel, GIS data, etc. | B14: High | E14: {=_xlfn.SWITCH(B14, "Critical", 5, "High", 4, "Medium", 3, "Low", 2, "Future", 1)} -> 4 | F14: {=_xlfn.SWITCH(C14, "Core Functionality", 5, "Configurable", 4, "Custom", 3, "Not Available", 0, "Either/Or", 0)} -> #N/A | G14: =E14*F14 -> #N/A
A15: Enable forward and backward traceability | B15: Critical | E15: {=_xlfn.SWITCH(B15, "Critical", 5, "High", 4, "Medium", 3, "Low", 2, "Future", 1)} -> 5 | F15: {=_xlfn.SWITCH(C15, "Core Functionality", 5, "Configurable", 4, "Custom", 3, "Not Available", 0, "Either/Or", 0)} -> #N/A | G15: =E15*F15 -> #N/A
A16: Support recall management | B16: Medium | E16: {=_xlfn.SWITCH(B16, "Critical", 5, "High", 4, "Medium", 3, "Low", 2, "Future", 1)} -> 3 | F16: {=_xlfn.SWITCH(C16, "Core Functionality", 5, "Configurable", 4, "Custom", 3, "Not Available", 0, "Either/Or", 0)} -> #N/A | G16: =E16*F16 -> #N/A
A17: Support barcode and QR code tracking | B17: Medium | E17: {=_xlfn.SWITCH(B17, "Critical", 5, "High", 4, "Medium", 3, "Low", 2, "Future", 1)} -> 3 | F17: {=_xlfn.SWITCH(C17, "Core Functionality", 5, "Configurable", 4, "Custom", 3, "Not Available", 0, "Either/Or", 0)} -> #N/A | G17: =E17*F17 -> #N/A
A18: Support EU traceability requirements (and responsiveness for future EU requirements) | B18: Critical | E18: {=_xlfn.SWITCH(B18, "Critical", 5, "High", 4, "Medium", 3, "Low", 2, "Future", 1)} -> 5 | F18: {=_xlfn.SWITCH(C18, "Core Functionality", 5, "Configurable", 4, "Custom", 3, "Not Available", 0, "Either/Or", 0)} -> #N/A | G18: =E18*F18 -> #N/A
A20: 4. Inventory Management
A21: Allow importation of data from DPRs, Innova, eLandings, Sea State into inventory system | B21: Medium | E21: {=_xlfn.SWITCH(B21, "Critical", 5, "High", 4, "Medium", 3, "Low", 2, "Future", 1)} -> 3 | F21: {=_xlfn.SWITCH(C21, "Core Functionality", 5, "Configurable", 4, "Custom", 3, "Not Available", 0, "Either/Or", 0)} -> #N/A | G21: =E21*F21 -> #N/A
A22: Track current inventory with real-time visibility | B22: High | E22: {=_xlfn.SWITCH(B22, "Critical", 5, "High", 4, "Medium", 3, "Low", 2, "Future", 1)} -> 4 | F22: {=_xlfn.SWITCH(C22, "Core Functionality", 5, "Configurable", 4, "Custom", 3, "Not Available", 0, "Either/Or", 0)} -> #N/A | G22: =E22*F22 -> #N/A
A23: Track current inventory by vessel, species, and product | B23: High | E23: {=_xlfn.SWITCH(B23, "Critical", 5, "High", 4, "Medium", 3, "Low", 2, "Future", 1)} -> 4 | F23: {=_xlfn.SWITCH(C23, "Core Functionality", 5, "Configurable", 4, "Custom", 3, "Not Available", 0, "Either/Or", 0)} -> #N/A | G23: =E23*F23 -> #N/A
A24: Support rapid movement from intake to shipment | B24: High | E24: {=_xlfn.SWITCH(B24, "Critical", 5, "High", 4, "Medium", 3, "Low", 2, "Future", 1)} -> 4 | F24: {=_xlfn.SWITCH(C24, "Core Functionality", 5, "Configurable", 4, "Custom", 3, "Not Available", 0, "Either/Or", 0)} -> #N/A | G24: =E24*F24 -> #N/A
A25: Monitor cold storage stock | B25: High | E25: {=_xlfn.SWITCH(B25, "Critical", 5, "High", 4, "Medium", 3, "Low", 2, "Future", 1)} -> 4 | F25: {=_xlfn.SWITCH(C25, "Core Functionality", 5, "Configurable", 4, "Custom", 3, "Not Available", 0, "Either/Or", 0)} -> #N/A | G25: =E25*F25 -> #N/A
A26: Allow prelimiary inventory counts and true-ups at offload | B26: High | E26: {=_xlfn.SWITCH(B26, "Critical", 5, "High", 4, "Medium", 3, "Low", 2, "Future", 1)} -> 4 | F26: {=_xlfn.SWITCH(C26, "Core Functionality", 5, "Configurable", 4, "Custom", 3, "Not Available", 0, "Either/Or", 0)} -> #N/A | G26: =E26*F26 -> #N/A
A28: 5. Logistics & Distribution
A29: Ability to schedule shipments immediately after production | B29: High | E29: {=_xlfn.SWITCH(B29, "Critical", 5, "High", 4, "Medium", 3, "Low", 2, "Future", 1)} -> 4 | F29: {=_xlfn.SWITCH(C29, "Core Functionality", 5, "Configurable", 4, "Custom", 3, "Not Available", 0, "Either/Or", 0)} -> #N/A | G29: =E29*F29 -> #N/A
A30: Support traceability of inventory location (on vessel, in tracit, at coldstorage, transferred) | B30: High | E30: {=_xlfn.SWITCH(B30, "Critical", 5, "High", 4, "Medium", 3, "Low", 2, "Future", 1)} -> 4 | F30: {=_xlfn.SWITCH(C30, "Core Functionality", 5, "Configurable", 4, "Custom", 3, "Not Available", 0, "Either/Or", 0)} -> #N/A | G30: =E30*F30 -> #N/A
A31: Track shipments and delivery timelines | B31: High | E31: {=_xlfn.SWITCH(B31, "Critical", 5, "High", 4, "Medium", 3, "Low", 2, "Future", 1)} -> 4 | F31: {=_xlfn.SWITCH(C31, "Core Functionality", 5, "Configurable", 4, "Custom", 3, "Not Available", 0, "Either/Or", 0)} -> #N/A | G31: =E31*F31 -> #N/A
A32: Support cross-docking to ship immediately after offload | B32: High | E32: {=_xlfn.SWITCH(B32, "Critical", 5, "High", 4, "Medium", 3, "Low", 2, "Future", 1)} -> 4 | F32: {=_xlfn.SWITCH(C32, "Core Functionality", 5, "Configurable", 4, "Custom", 3, "Not Available", 0, "Either/Or", 0)} -> #N/A | G32: =E32*F32 -> #N/A
